BEGIN:VCALENDAR
VERSION:2.0
PRODID:-//eventon.com NONSGML v1.0//EN
CALSCALE:GREGORIAN
METHOD:PUBLISH
BEGIN:VEVENT
UID:69e5ed7b0fa25
DTSTAMP:20260420T091019Z
DTSTART:20241204T080000Z
DTEND:20241204T160000Z
LOCATION:NBC Congrescentrum
SUMMARY:MMV-congres Opleiding; de grote verbinder | Federatie Medisch Specialisten
DESCRIPTION:Op woensdag 4 december 2024 organiseert de Federatie Medisch Sp
 ecialisten de zestiende editie van het MMV-congres in het NBC Congrescentru
 m in Nieuwegein.â€¯Het thema is dit jaar â€˜Opleiding; de grote verbinderâ€
 ™\,  waarbij het gaat over het zoeken naar de verbinding en het focussen op
  de gedeelde drijfveren in de opleiding. Veranderingen[..]\nhttps://www.kam
 g.nl/events/mmv-congres-opleiding-de-grote-verbinder-federatie-medisch-spec
 ialisten/
URL:https://www.kamg.nl/events/mmv-congres-opleiding-de-grote-verbinder-federatie-medisch-specialisten/
END:VEVENT
END:VCALENDAR