BEGIN:VCALENDAR
VERSION:2.0
PRODID:-//eventon.com NONSGML v1.0//EN
CALSCALE:GREGORIAN
METHOD:PUBLISH
BEGIN:VEVENT
UID:69e7375451dc1
DTSTAMP:20260421T083740Z
DTSTART:20251119T121500Z
DTEND:20251119T190000Z
LOCATION:DUS Utrecht
SUMMARY:Festival van de Bevlogenheid | LAD
DESCRIPTION:Meld je aan voor het Festival van de Bevlogenheid Investeren in
  je persoonlijke ontwikkeling moet net zo vanzelfsprekend zijn als invester
 en in je vaktechnische kennis. Om die ambitie kracht bij te zetten\,  organ
 iseren de Landelijke vereniging van Artsen in Dienstverband (LAD) en de sti
 chting Challenge &amp; Support op 19 november[..]\nhttps://www.kamg.nl/even
 ts/festival-van-de-bevlogenheid-lad/
URL:https://www.kamg.nl/events/festival-van-de-bevlogenheid-lad/
END:VEVENT
END:VCALENDAR