BEGIN:VCALENDAR
VERSION:2.0
PRODID:-//eventon.com NONSGML v1.0//EN
CALSCALE:GREGORIAN
METHOD:PUBLISH
BEGIN:VEVENT
UID:69e5edb2732b1
DTSTAMP:20260420T091114Z
DTSTART:20260312T080000Z
DTEND:20260312T170000Z
LOCATION:Koepelgevangenis Arnhem
SUMMARY:Weerbaar in een Wankele Wereld | KAMG congres 2026
DESCRIPTION:Artsen M+G staan midden in de samenleving. In ons werk zien we 
 hoe de wereld steeds meer uit balans dreigt te raken. Dit heeft gevolgen vo
 or gezondheid en maatschappij. De uitdagingen die hiermee gepaard gaan\,  v
 ragen om onze brede blik en expertise. Maar welke bijdrage kunnen wij lev
 eren aan het versterken[..]\nhttps://www.kamg.nl/events/weerbaar-in-een-wan
 kele-wereld-kamg-congres-2026/
URL:https://www.kamg.nl/events/weerbaar-in-een-wankele-wereld-kamg-congres-2026/
END:VEVENT
END:VCALENDAR