BEGIN:VCALENDAR
VERSION:2.0
PRODID:-//eventon.com NONSGML v1.0//EN
CALSCALE:GREGORIAN
METHOD:PUBLISH
BEGIN:VEVENT
UID:69e738dd85508
DTSTAMP:20260421T084413Z
DTSTART:20260128T060300Z
DTEND:20260128T060300Z
LOCATION:
SUMMARY:Grenzen over\,  gezondheid dichtbij  | Samen werken aan betere sociaalgeneeskundige zorg voor arbeidsmigranten
DESCRIPTION:De Werkgroep Arbeidsmigranten Veilig en Gezond (WAVG) nodigt je
  van harte uit voor een inspirerend en toekomstgericht symposium op vrijd
 ag 30 januari 2026. Centraal staat het thema: Arbeidsmigranten en de soci
 ale geneeskunde.  In Nederland zetten sociaalgeneeskundigen—zoals bedrij
 fsartsen\,  artsen Infectieziektebestrijding (IZB)\,  jeugdartsen\,  artsen
  medische milieukunde en verzekeringsartsen—zich er dagelijks voor in dat
  arbeidsmigranten[..]\nhttps://www.kamg.nl/events/grenzen-over-gezondheid-d
 ichtbij-samen-werken-aan-betere-sociaalgeneeskundige-zorg-voor-arbeidsmigra
 nten/
URL:https://www.kamg.nl/events/grenzen-over-gezondheid-dichtbij-samen-werken-aan-betere-sociaalgeneeskundige-zorg-voor-arbeidsmigranten/
END:VEVENT
END:VCALENDAR