BEGIN:VCALENDAR
VERSION:2.0
PRODID:-//eventon.com NONSGML v1.0//EN
CALSCALE:GREGORIAN
METHOD:PUBLISH
BEGIN:VEVENT
UID:69e5eca1cc1a3
DTSTAMP:20260420T090641Z
DTSTART:20260930T070000Z
DTEND:20260930T153000Z
LOCATION:Jaarbeurs Utrecht
SUMMARY:Symposium Zorg voor Nieuwkomers 2026
DESCRIPTION:Meer informatie volgt snel.\nhttps://www.kamg.nl/events/symposi
 um-zorg-voor-nieuwkomers-2026/
URL:https://www.kamg.nl/events/symposium-zorg-voor-nieuwkomers-2026/
END:VEVENT
END:VCALENDAR